BEGIN:VCALENDAR
VERSION:2.0
PRODID:-//Down to Earth Greenhouse - ECPv6.13.2.1//NONSGML v1.0//EN
CALSCALE:GREGORIAN
METHOD:PUBLISH
X-WR-CALNAME:Down to Earth Greenhouse
X-ORIGINAL-URL:https://downtoearthgreenhouse.com
X-WR-CALDESC:Events for Down to Earth Greenhouse
REFRESH-INTERVAL;VALUE=DURATION:PT1H
X-Robots-Tag:noindex
X-PUBLISHED-TTL:PT1H
BEGIN:VTIMEZONE
TZID:UTC
BEGIN:STANDARD
TZOFFSETFROM:+0000
TZOFFSETTO:+0000
TZNAME:UTC
DTSTART:20170101T000000
END:STANDARD
END:VTIMEZONE
BEGIN:VEVENT
DTSTART;VALUE=DATE:20170628
DTEND;VALUE=DATE:20170629
DTSTAMP:20260423T121533
CREATED:20170629T003343Z
LAST-MODIFIED:20170629T003343Z
UID:233-1498608000-1498694399@downtoearthgreenhouse.com
SUMMARY:Spring Flower Tour
DESCRIPTION:
URL:https://downtoearthgreenhouse.com/event/spring-flower-tour/
LOCATION:Down to Earth Greenhouse\, 6104 N. 52nd Avenue\, Wausau\, WI\, 54401\, United States
END:VEVENT
END:VCALENDAR